BEGIN:VCALENDAR
VERSION:2.0
PRODID:-//AudioTheme 2.3.7
BEGIN:VEVENT
UID:http://toniminggeiger.com/?post_type=audiotheme_gig&#038;p=407
URL:http://toniminggeiger.com/live/2016-03-13/
DTSTART;TZID=GMT:20160313T180000
SUMMARY:Französischer Liederabend mit Elena Harsányi (Sopran).
DESCRIPTION:Französischer Liederabend mit Elena Harsányi (Sopran).
LOCATION:Emmaus-Kirche Bonn\, Borsigallee 23\, Bonn\, \, 53125
END:VEVENT
END:VCALENDAR
