BEGIN:VCALENDAR
VERSION:2.0
PRODID:-//AudioTheme 2.3.7
BEGIN:VEVENT
UID:http://toniminggeiger.com/?post_type=audiotheme_gig&#038;p=515
URL:http://toniminggeiger.com/live/2017-05-03/
DTSTART;TZID=GMT:20170503T180000
SUMMARY:"Ein Jahrhundert in Wien" – Liederabend mit Elena Harsányi (Sopran).
DESCRIPTION:"Ein Jahrhundert in Wien" – Liederabend mit Elena Harsányi (Sopran).
LOCATION:Studio der Nordwestdeutschen Philharmonie Herford\, Stiftbergstr. 2\, Herford\, \, Germany\, 32049
END:VEVENT
END:VCALENDAR
