BEGIN:VCALENDAR
VERSION:2.0
PRODID:-//AudioTheme 2.3.7
BEGIN:VEVENT
UID:urn:uuid:83b78801-ebe4-4688-aafe-6a6067a96394
URL:http://toniminggeiger.com/live/2023-09-22/
DTSTART;TZID=GMT:20230922T120000
SUMMARY:"Refugium" – Audiovisuelle Installation beim HIDALGO Festival 2023.
DESCRIPTION:"Refugium" – Audiovisuelle Installation beim HIDALGO Festival 2023.
LOCATION:München\, Karl-Stützel Platz\, München\, \, 80333
END:VEVENT
END:VCALENDAR
