BEGIN:VCALENDAR
VERSION:2.0
PRODID:-//AudioTheme 2.3.7
BEGIN:VEVENT
UID:http://toniminggeiger.com/?post_type=audiotheme_gig&#038;p=418
URL:http://toniminggeiger.com/live/abschlusskonzert-meisterkurs-fuer-hammerfluegel/
DTSTART;TZID=GMT:20160203T183000
SUMMARY:Abschlusskonzert Meisterkurs für Hammerflügel mit Tobias Glagau (Tenor).
DESCRIPTION:Abschlusskonzert Meisterkurs für Hammerflügel mit Tobias Glagau (Tenor).
LOCATION:Hochschule für Musik und Tanz Köln\, Unter Krahnenbäumen 87\, Köln\, \, 50668
END:VEVENT
END:VCALENDAR
