BEGIN:VCALENDAR
VERSION:2.0
PRODID:-//AudioTheme 2.3.7
BEGIN:VEVENT
UID:urn:uuid:51631e73-fd85-4bef-bd26-9e153e526a45
URL:http://toniminggeiger.com/live/animato-beethovens-folksongs/
DTSTART;TZID=GMT:20201029T170000
SUMMARY:ANIMATO: Beethovens "Folksongs" im Gesprächskonzert (18 Uhr).
DESCRIPTION:AUSVERKAUFT: Animato – Beethovens "Folksongs" im Gesprächskonzert (18 Uhr).
LOCATION:Collegium Leoninum Bonn\, 34 Noeggerathstraße\, Bonn\, \, Deutschland\, 53111
END:VEVENT
END:VCALENDAR
