BEGIN:VCALENDAR
VERSION:2.0
PRODID:-//AudioTheme 2.3.7
BEGIN:VEVENT
UID:http://toniminggeiger.com/?post_type=audiotheme_gig&#038;p=896
URL:http://toniminggeiger.com/live/heimat-fremde-liederabend-mit-elena-harsanyi-sopran/
DTSTART;TZID=GMT:20190417T180000
SUMMARY:"Heimat & Fremde" – Liederabend mit Elena Harsányi (Sopran).
DESCRIPTION:"Heimat & Fremde" – Liederabend mit Elena Harsányi (Sopran).
LOCATION:Gut Siggen\, Siggen 1003\, Heringsdorf\, \, Germany\, 23777
END:VEVENT
END:VCALENDAR
