BEGIN:VCALENDAR
VERSION:2.0
PRODID:-//AudioTheme 2.3.7
BEGIN:VEVENT
UID:http://toniminggeiger.com/?post_type=audiotheme_gig&#038;p=698
URL:http://toniminggeiger.com/live/kammerkonzert-mit-elena-harsanyi-sopran-johannes-schittler-klarinette/
DTSTART;VALUE=DATE:20180704
SUMMARY:Kammerkonzert mit Elena Harsányi (Sopran) & Johannes Schittler (Klarinette).
DESCRIPTION:Kammerkonzert mit Elena Harsányi (Sopran) & Johannes Schittler (Klarinette).
LOCATION:Sonnenalp Resort\, Sonnenalp 1\, Ofterschwang\, \, Germany\, 87527
END:VEVENT
END:VCALENDAR
