BEGIN:VCALENDAR
VERSION:2.0
PRODID:-//AudioTheme 2.3.7
BEGIN:VEVENT
UID:http://toniminggeiger.com/?post_type=audiotheme_gig&#038;p=212
URL:http://toniminggeiger.com/live/klassenabend-liedgestaltung/
DTSTART;TZID=GMT:20151214T183000
SUMMARY:Klassenabend Liedgestaltung
DESCRIPTION:Klassenabend der Klasse Prof. Ulrich Eisenlohr (Liedgestaltung).
LOCATION:Hochschule für Musik und Tanz Köln\, Unter Krahnenbäumen 87\, Köln\, \, 50668
END:VEVENT
END:VCALENDAR
