BEGIN:VCALENDAR
VERSION:2.0
PRODID:-//AudioTheme 2.3.7
BEGIN:VEVENT
UID:http://toniminggeiger.com/?post_type=audiotheme_gig&#038;p=91
URL:http://toniminggeiger.com/live/lied-kammermusikabend/
DTSTART;TZID=GMT:20151018T170000
SUMMARY:Lied- & Kammermusikabend
DESCRIPTION:Konzert mit Elena Harsányi (Sopran) & Johannes Schittler (Klarinette).
LOCATION:Emmaus-Kirche Bonn\, Borsigallee 23\, Bonn\, \, 53125
END:VEVENT
END:VCALENDAR
