BEGIN:VCALENDAR
VERSION:2.0
PRODID:-//AudioTheme 2.3.7
BEGIN:VEVENT
UID:urn:uuid:117898a3-d8df-4b4f-9f53-7d250dc4841b
URL:http://toniminggeiger.com/live/liederabend-eros-und-thanatos-mit-marie-seidler-mezzosopran/
DTSTART;TZID=GMT:20230420T163000
SUMMARY:Liederabend "Eros und Thanatos" mit Marie Seidler (Mezzosopran).
DESCRIPTION:Liederabend "Eros und Thanatos" mit Marie Seidler (Mezzosopran).
LOCATION:Kammermusiksaal im Humboldt-Gymnasium Köln\, 40 Kartäuserwall\, Köln\, \, Deutschland\, 50676
END:VEVENT
END:VCALENDAR
