BEGIN:VCALENDAR
VERSION:2.0
PRODID:-//AudioTheme 2.3.7
BEGIN:VEVENT
UID:http://toniminggeiger.com/?post_type=audiotheme_gig&#038;p=939
URL:http://toniminggeiger.com/live/liederabend-mit-elena-harsanyi-sopran-3/
DTSTART;TZID=GMT:20190511T180000
SUMMARY:Liederabend mit Elena Harsányi (Sopran).
DESCRIPTION:Liederabend mit Elena Harsányi (Sopran).
LOCATION:Gasteig München\, Rosenheimer Str. 5\, München\, \, 81667
END:VEVENT
END:VCALENDAR
