BEGIN:VCALENDAR
VERSION:2.0
PRODID:-//AudioTheme 2.3.7
BEGIN:VEVENT
UID:http://toniminggeiger.com/?post_type=audiotheme_gig&#038;p=371
URL:http://toniminggeiger.com/live/liederabend-mit-fabio-lesuisse-bariton/
DTSTART;TZID=GMT:20151123T180000
SUMMARY:Liederabend mit Fabio Lesuisse (Bariton).
DESCRIPTION:Liederabend mit Fabio Lesuisse (Bariton) und dem Duo Milena Knaus/Yorika Kimuri.
LOCATION:Hochschule für Musik und Tanz Köln/Abteilung Aachen\, Theaterplatz 16\, Aachen\, \, 52062
END:VEVENT
END:VCALENDAR
