BEGIN:VCALENDAR
VERSION:2.0
PRODID:-//AudioTheme 2.3.7
BEGIN:VEVENT
UID:http://toniminggeiger.com/?post_type=audiotheme_gig&#038;p=385
URL:http://toniminggeiger.com/live/liednacht-hfmt-koeln/
DTSTART;TZID=GMT:20160504T160000
SUMMARY:Liednacht HfMT Köln
DESCRIPTION:Liednacht HfMT Köln – Eine Zeitreise in Liedern.
LOCATION:Hochschule für Musik und Tanz Köln/Abteilung Aachen\, Theaterplatz 16\, Aachen\, \, 52062
END:VEVENT
END:VCALENDAR
