BEGIN:VCALENDAR
VERSION:2.0
PRODID:-//AudioTheme 2.3.7
BEGIN:VEVENT
UID:urn:uuid:f1811ffa-5179-4336-a050-cc10f56c6395
URL:http://toniminggeiger.com/live/masterclass-mit-elena-harsanyi-sopran-an-der-ecole-de-musique-viarmes/
DTSTART;TZID=GMT:20230513T150000
SUMMARY:Masterclass mit Elena Harsányi (Sopran) an der École de musique Viarmes.
DESCRIPTION:Masterclass mit Elena Harsányi (Sopran) an der École de musique Viarmes.
LOCATION:Ecole de musique de Viarmes\, Place Pierre SALVI- CS 10\, Viarmes\, \, Frankreich\, 95270
END:VEVENT
END:VCALENDAR
