BEGIN:VCALENDAR
VERSION:2.0
PRODID:-//AudioTheme 2.3.7
BEGIN:VEVENT
UID:urn:uuid:69a34bd9-54b2-4fbd-866c-b548eeba8c76
URL:http://toniminggeiger.com/live/offizieller-begleiter-fuer-gesang-beim-deutschen-musikwettbewerb-2023/
DTSTART;TZID=GMT:20230810T080000
SUMMARY:Offizieller Begleiter für Gesang beim Deutschen Musikwettbewerb 2023
DESCRIPTION:Offizieller Begleiter für Gesang beim Deutschen Musikwettbewerb 2023
LOCATION:tbd\, Bonn\, \, Deutschland
END:VEVENT
END:VCALENDAR
